BEGIN:VCALENDAR
VERSION:2.0
PRODID:-//Aceia - ECPv6.15.15//NONSGML v1.0//EN
CALSCALE:GREGORIAN
METHOD:PUBLISH
X-WR-CALNAME:Aceia
X-ORIGINAL-URL:https://aceia.es
X-WR-CALDESC:Eventos para Aceia
REFRESH-INTERVAL;VALUE=DURATION:PT1H
X-Robots-Tag:noindex
X-PUBLISHED-TTL:PT1H
BEGIN:VTIMEZONE
TZID:Europe/Madrid
BEGIN:DAYLIGHT
TZOFFSETFROM:+0100
TZOFFSETTO:+0200
TZNAME:CEST
DTSTART:20250330T010000
END:DAYLIGHT
BEGIN:STANDARD
TZOFFSETFROM:+0200
TZOFFSETTO:+0100
TZNAME:CET
DTSTART:20251026T010000
END:STANDARD
BEGIN:DAYLIGHT
TZOFFSETFROM:+0100
TZOFFSETTO:+0200
TZNAME:CEST
DTSTART:20260329T010000
END:DAYLIGHT
BEGIN:STANDARD
TZOFFSETFROM:+0200
TZOFFSETTO:+0100
TZNAME:CET
DTSTART:20261025T010000
END:STANDARD
BEGIN:DAYLIGHT
TZOFFSETFROM:+0100
TZOFFSETTO:+0200
TZNAME:CEST
DTSTART:20270328T010000
END:DAYLIGHT
BEGIN:STANDARD
TZOFFSETFROM:+0200
TZOFFSETTO:+0100
TZNAME:CET
DTSTART:20271031T010000
END:STANDARD
END:VTIMEZONE
BEGIN:VEVENT
DTSTART;TZID=Europe/Madrid:20260612T110000
DTEND;TZID=Europe/Madrid:20260612T130000
DTSTAMP:20260420T191742
CREATED:20260419T110148Z
LAST-MODIFIED:20260419T110148Z
UID:15691-1781262000-1781269200@aceia.es
SUMMARY:☕ Encuentro de Socios/as "Hablemos" - 12 de junio
DESCRIPTION:¿Sientes que los retos de tu academia son solo tuyos? En ACEIA sabemos que la unión hace la fuerza y queremos escucharte.\nBajo el nombre «Hablemos»\, inauguramos un nuevo ciclo de encuentros mensuales diseñados específicamente por y para los gestores de nuestros centros asociados. Este no es un evento de formación unidireccional\, sino un espacio de confianza y cercanía donde compartir inquietudes\, intercambiar ideas y\, sobre todo\, buscar soluciones conjuntas a los problemas reales que enfrentamos en el día a día de nuestras academias.\n\n🤝 Un entorno 100% colaborativo\nEn «Hablemos»\, el valor reside en la experiencia compartida. Queremos crear una red de apoyo mutuo donde podamos debatir sobre lo que de verdad nos preocupa:\n\nGestión de equipos y liderazgo.\nRetos operativos y administrativos.\nEstrategias de fidelización y captación.\nNovedades del sector y soluciones compartidas.\n\n\n🗓️ Detalles del primer encuentro\nIniciamos este proyecto con el objetivo de estar más conectados y reforzar el espíritu de colaboración que nos define desde hace 45 años.\n\nFecha: 12 de junio.\nFormato: Online (Videoconferencia).\nObjetivo: Intercambiar ideas y construir soluciones entre colegas.\n\n\n\n📢 ¡Reserva la fecha en tu agenda!Nadie entiende mejor los retos de una academia que otro gestor de ACEIA. El enlace para la conexión se facilitará a todos los socios/as a través de nuestros canales oficiales de comunicación días antes del evento.
URL:https://aceia.es/event/%e2%98%95-encuentro-de-socios-as-hablemos-12-de-junio/
ATTACH;FMTTYPE=image/webp:https://aceia.es/wp-content/uploads/2026/04/Hablemos.webp
END:VEVENT
END:VCALENDAR