BEGIN:VCALENDAR
VERSION:2.0
PRODID:-//Aceia - ECPv6.15.15//NONSGML v1.0//EN
CALSCALE:GREGORIAN
METHOD:PUBLISH
X-WR-CALNAME:Aceia
X-ORIGINAL-URL:https://aceia.es
X-WR-CALDESC:Eventos para Aceia
REFRESH-INTERVAL;VALUE=DURATION:PT1H
X-Robots-Tag:noindex
X-PUBLISHED-TTL:PT1H
BEGIN:VTIMEZONE
TZID:Europe/Madrid
BEGIN:DAYLIGHT
TZOFFSETFROM:+0100
TZOFFSETTO:+0200
TZNAME:CEST
DTSTART:20250330T010000
END:DAYLIGHT
BEGIN:STANDARD
TZOFFSETFROM:+0200
TZOFFSETTO:+0100
TZNAME:CET
DTSTART:20251026T010000
END:STANDARD
BEGIN:DAYLIGHT
TZOFFSETFROM:+0100
TZOFFSETTO:+0200
TZNAME:CEST
DTSTART:20260329T010000
END:DAYLIGHT
BEGIN:STANDARD
TZOFFSETFROM:+0200
TZOFFSETTO:+0100
TZNAME:CET
DTSTART:20261025T010000
END:STANDARD
BEGIN:DAYLIGHT
TZOFFSETFROM:+0100
TZOFFSETTO:+0200
TZNAME:CEST
DTSTART:20270328T010000
END:DAYLIGHT
BEGIN:STANDARD
TZOFFSETFROM:+0200
TZOFFSETTO:+0100
TZNAME:CET
DTSTART:20271031T010000
END:STANDARD
END:VTIMEZONE
BEGIN:VEVENT
DTSTART;TZID=Europe/Madrid:20260310T120000
DTEND;TZID=Europe/Madrid:20260310T130000
DTSTAMP:20260420T174650
CREATED:20260310T171036Z
LAST-MODIFIED:20260310T171036Z
UID:15465-1773144000-1773147600@aceia.es
SUMMARY:ACEIA y Loyola Idiomas firman un acuerdo estratégico para impulsar la calidad de la enseñanza en Andalucía
DESCRIPTION:Esta mañana\, la Asociación de Centros de Enseñanza de Idiomas de Andalucía (ACEIA) y Loyola Idiomas (la escuela de idiomas de la Universidad Loyola) han formalizado un convenio de colaboración clave para el sector de la formación en nuestra comunidad. El acuerdo\, firmado por María González\, presidenta de ACEIA\, y Marta Arnaiz\, directora de Loyola Idiomas\, tiene como objetivo principal promover las buenas prácticas en la enseñanza de idiomas. Además\, esta alianza facilitará significativamente el acceso a los exámenes de Cambridge Assessment English en las provincias de Sevilla y Córdoba\, reforzando el compromiso de ambas entidades con la certificación oficial de calidad. Con esta firma\, ACEIA da un paso más en su misión de garantizar la excelencia académica y profesional en sus centros asociados\, ofreciendo a los estudiantes andaluces las mejores herramientas para su desarrollo lingüístico.
URL:https://aceia.es/event/aceia-y-loyola-idiomas-firman-un-acuerdo-estrategico-para-impulsar-la-calidad-de-la-ensenanza-en-andalucia/
END:VEVENT
BEGIN:VEVENT
DTSTART;TZID=Europe/Madrid:20260312T103000
DTEND;TZID=Europe/Madrid:20260312T123000
DTSTAMP:20260420T174650
CREATED:20260304T161151Z
LAST-MODIFIED:20260304T161151Z
UID:15457-1773311400-1773318600@aceia.es
SUMMARY:Webinar Presentación Informe Económico Sectorial\, con Javier Beámuz
DESCRIPTION:📅 AGENDA ACEIA: 12 de Marzo\, 10:30h\nEstimado socio/a\, no te pierdas la presentación del Informe Económico Sectorial con Javier Beamuz. 📊\nUna sesión estratégica para directores y gerentes donde daremos respuesta a los retos económicos actuales de nuestras academias.\n\n¿Qué? Webinar Presentación Informe ACEIA.\n¿Cuándo? 12 de Marzo a las 10:30h.\n¿Dónde? Online (Zoom).\n\n🔗 Reserva tu plaza: Solo para socios/as\n¡Impulsa tus decisiones con datos! 💡
URL:https://aceia.es/event/webinar-presentacion-informe-economico-sectorial-con-javier-beamuz/
ATTACH;FMTTYPE=image/jpeg:https://aceia.es/wp-content/uploads/2026/03/Webinar-12-de-Marzo.jpeg
END:VEVENT
BEGIN:VEVENT
DTSTART;TZID=Europe/Madrid:20260317T110000
DTEND;TZID=Europe/Madrid:20260317T130000
DTSTAMP:20260420T174650
CREATED:20260317T121153Z
LAST-MODIFIED:20260317T121300Z
UID:15480-1773745200-1773752400@aceia.es
SUMMARY:Encuentro de Coordinación: Impulso a la Formación Provincial de ACEIA
DESCRIPTION:ACEIA refuerza su compromiso con la cohesión territorial a través de una sesión de trabajo clave con los Vocales Provinciales de toda Andalucía.\n\nEn esta jornada\, la Coordinadora de Formación\, Lisa Ellen Dold\, presenta las líneas maestras del nuevo Plan Organizativo de Formación. Este plan apuesta por la descentralización y la escucha activa\, otorgando a las provincias un papel proactivo en la detección de necesidades y la propuesta de eventos formativos locales.\n\nObjetivos del encuentro:\n\nPresentación estratégica: Lanzamiento del nuevo modelo de gestión formativa liderado por Lisa Ellen Dold.\nEscucha activa: Recogida de inquietudes y realidades específicas de cada provincia andaluza.\nPropuestas locales: Dinamización de los vocales para la organización de futuros eventos y jornadas técnicas en sus respectivas áreas.\n\nCon esta reunión\, ACEIA da un paso más en su estrategia de proximidad\, asegurando que la excelencia en la enseñanza de idiomas llegue con fuerza a cada rincón de nuestra comunidad.
URL:https://aceia.es/event/encuentro-de-coordinacion-impulso-a-la-formacion-provincial-de-aceia/
ATTACH;FMTTYPE=image/jpeg:https://aceia.es/wp-content/uploads/2026/03/7.jpg
END:VEVENT
BEGIN:VEVENT
DTSTART;TZID=Europe/Madrid:20260318T140000
DTEND;TZID=Europe/Madrid:20260318T150000
DTSTAMP:20260420T174650
CREATED:20260319T073346Z
LAST-MODIFIED:20260319T074903Z
UID:15483-1773842400-1773846000@aceia.es
SUMMARY:Grabación de entrevista en 7TV Andalucía: ACEIA en "Espacio Innovación"
DESCRIPTION:Hoy\, miércoles 18 de marzo\, nuestra presidenta\, María González\, visita los estudios de 7TV Andalucía para participar en el programa «Espacio Innovación».\n\nA lo largo de la mañana\, mantendrá un encuentro y entrevista con Raúl Estévez\, Responsable del Área de Economía de 7TV y Publicaciones del Sur\, para analizar la situación actual del sector de la enseñanza de idiomas\, la innovación en nuestros centros y los retos de futuro de ACEIA.\n\nDesde la asociación queremos agradecer de antemano a Raúl Estévez y a la cadena 7TV por su gran acogida y la sensibilidad mostrada hacia nuestro sector\, facilitando un espacio de visibilidad tan necesario para la enseñanza de idiomas en Andalucía.
URL:https://aceia.es/event/grabacion-de-entrevista-en-7tv-andalucia-aceia-en-espacio-innovacion/
ATTACH;FMTTYPE=image/jpeg:https://aceia.es/wp-content/uploads/2026/03/2-1.jpeg
END:VEVENT
BEGIN:VEVENT
DTSTART;TZID=Europe/Madrid:20260321T133000
DTEND;TZID=Europe/Madrid:20260323T143000
DTSTAMP:20260420T174650
CREATED:20260319T074047Z
LAST-MODIFIED:20260319T074818Z
UID:15486-1774099800-1774276200@aceia.es
SUMMARY:Emisión de la entrevista a ACEIA en el programa "Espacio Innovación" de 7TV
DESCRIPTION:📢 ¡ACEIA en 7TV Andalucía este sábado! \nEste\, sábado 21 de marzo\, se emite la entrevista de nuestra presidenta\, María González\, en el programa «Espacio Innovación» de 7TV. 📺✨\n\nTras la grabación realizada el pasado miércoles 18 en los estudios de la cadena\, María González analiza junto a Raúl Estévez\, Responsable del Área de Economía de 7TV y Publicaciones del Sur\, los retos actuales\, la importancia de la innovación en la enseñanza de idiomas y el papel fundamental de los centros asociados a ACEIA en la educación y economía andaluza.\n\nDesde ACEIA\, reiteramos nuestro agradecimiento a Raúl Estévez y a todo el equipo de 7TV por la excelente acogida y la sensibilidad mostrada hacia nuestro sector\, ofreciendo una ventana de visibilidad tan necesaria para el ámbito de los idiomas. 🙌\n\nCómo ver la entrevista:\n\nTelevisión: 7TV Sevilla / 7TV Andalucía.\nOnline / A la carta: Puedes seguir la emisión en directo o verla posteriormente a través del siguiente enlace:🔗 www.7tvandalucia.es\n\n¡No os la perdáis! 🎓🌍
URL:https://aceia.es/event/emision-de-la-entrevista-a-aceia-en-el-programa-espacio-innovacion-de-7tv/
ATTACH;FMTTYPE=image/jpeg:https://aceia.es/wp-content/uploads/2026/03/1.jpeg
END:VEVENT
END:VCALENDAR