BEGIN:VCALENDAR
VERSION:2.0
PRODID:-//Aceia - ECPv6.15.15//NONSGML v1.0//EN
CALSCALE:GREGORIAN
METHOD:PUBLISH
X-ORIGINAL-URL:https://aceia.es
X-WR-CALDESC:Eventos para Aceia
REFRESH-INTERVAL;VALUE=DURATION:PT1H
X-Robots-Tag:noindex
X-PUBLISHED-TTL:PT1H
BEGIN:VTIMEZONE
TZID:Europe/Madrid
BEGIN:DAYLIGHT
TZOFFSETFROM:+0100
TZOFFSETTO:+0200
TZNAME:CEST
DTSTART:20250330T010000
END:DAYLIGHT
BEGIN:STANDARD
TZOFFSETFROM:+0200
TZOFFSETTO:+0100
TZNAME:CET
DTSTART:20251026T010000
END:STANDARD
BEGIN:DAYLIGHT
TZOFFSETFROM:+0100
TZOFFSETTO:+0200
TZNAME:CEST
DTSTART:20260329T010000
END:DAYLIGHT
BEGIN:STANDARD
TZOFFSETFROM:+0200
TZOFFSETTO:+0100
TZNAME:CET
DTSTART:20261025T010000
END:STANDARD
BEGIN:DAYLIGHT
TZOFFSETFROM:+0100
TZOFFSETTO:+0200
TZNAME:CEST
DTSTART:20270328T010000
END:DAYLIGHT
BEGIN:STANDARD
TZOFFSETFROM:+0200
TZOFFSETTO:+0100
TZNAME:CET
DTSTART:20271031T010000
END:STANDARD
END:VTIMEZONE
BEGIN:VEVENT
DTSTART;VALUE=DATE:20260209
DTEND;VALUE=DATE:20260210
DTSTAMP:20260420T190955
CREATED:20260209T122617Z
LAST-MODIFIED:20260209T122617Z
UID:15324-1770595200-1770681599@aceia.es
SUMMARY:🚀 ACEIA lanza #RedConecta\, el nuevo espacio exclusivo para escuelas asociadas
DESCRIPTION:ACEIA lanza Red Conecta\, un nuevo espacio destinado a nuestras escuelas asociadas para fomentar la cooperación y dar visibilidad a vuestras acciones formativas y proyectos. 🤝 \nEste es vuestro canal para sumar ideas\, colaborar y transformar propuestas en acciones concretas\, a través de un proceso claro y participativo. \n¿Qué es Red Conecta?\nEs una plataforma de difusión de proyectos propuestos de manera individual y personal por los socios de ACEIA\, dirigidos a equipos directivos\, profesorado y personal de administración de centros de idiomas. \nObjetivos principales: \n💡 Fomentar la cooperación entre socios y dar visibilidad a iniciativas de especial interés para todos.\n🎯 Centralizar la gestión de propuestas\, facilitando su difusión.\n🚀 Promover la innovación y un impacto positivo a nivel individual y colectivo. \nInformación Importante:\nLas formaciones son organizadas\, gestionadas e impartidas exclusivamente por los socios que las ofrecen\, bajo su propia responsabilidad.  ACEIA actúa únicamente como canal de información y visibilidad\, sin intervenir en la gestión o certificación de dichas actividades. ¡Si tienes algo que compartir\, no lo dudes y CONÉCTATE! \nMás información: https://aceia.es/red-conecta/
URL:https://aceia.es/event/%f0%9f%9a%80-aceia-lanza-redconecta-el-nuevo-espacio-exclusivo-para-escuelas-asociadas/
ATTACH;FMTTYPE=image/jpeg:https://aceia.es/wp-content/uploads/2026/02/Red-Conecta.jpeg
END:VEVENT
BEGIN:VEVENT
DTSTART;TZID=Europe/Madrid:20260219T120000
DTEND;TZID=Europe/Madrid:20260219T133000
DTSTAMP:20260420T190955
CREATED:20260209T121753Z
LAST-MODIFIED:20260209T121753Z
UID:15313-1771502400-1771507800@aceia.es
SUMMARY:Webinar "Intonation & Fluency: Drama and AI for Advanced Learners"
DESCRIPTION:📢 ACEIA y Anglia te invitan a este webinar online \n¿Quieres ayudar a tu alumnado avanzado a mejorar su fluidez e intonación en inglés? \nDesde ACEIA\, junto a Anglia Examinations England y Chichester College Group\, te invitamos al webinar“Intonation & Fluency: Drama and AI for Advanced Learners”\, impartido por Chris Kunz\, donde descubrirás cómo integrar drama y herramientas de IA para lograr una comunicación más natural y expresiva en el aula. \n🗓 Jueves 19 de febrero⏰ 12:00 h💻 Online \n👉 Inscripción gratuita:https://us06web.zoom.us/meeting/register/NTbUwYueSKuwY5UwxeXrbA \n#ACEIA #AngliaExams #Webinar #FormaciónDocente #EnglishTeaching #ELT
URL:https://aceia.es/event/webinar-intonation-fluency-drama-and-ai-for-advanced-learners/
ATTACH;FMTTYPE=image/jpeg:https://aceia.es/wp-content/uploads/2026/02/WEBINAR-19FEB-ACEIA-ANGLIA-1_page-0002-scaled.jpg
END:VEVENT
BEGIN:VEVENT
DTSTART;VALUE=DATE:20260228
DTEND;VALUE=DATE:20260301
DTSTAMP:20260420T190955
CREATED:20260303T182131Z
LAST-MODIFIED:20260303T182131Z
UID:15435-1772236800-1772323199@aceia.es
SUMMARY:LIDER ’26: Planifica y da Forma al Futuro de Nuestro Sector
DESCRIPTION:El sábado día 28 de febrero de 2026\, FECEI\, la Federación Española de Centros de Enseñanza de Idiomas\, celebrará LIDER ’26 en el emblemático Edificio Nexus de La Universidad Politécnica de Valencia.  Este entorno moderno y profesional es punto de encuentro de la comunidad universitaria y empresarial más dinámica de Valencia\, ofreciendo visibilidad y oportunidades de conexión estratégica.\n\n\n\n\nElegir Nexus-UPV asocia la imagen del evento con excelencia\, vanguardia y proyección internacional. El encuentro reunirá a propietarios de centros de idiomas y principales “decision makers” del sector\, generando un espacio ideal para conexiones reales y colaboraciones de valor. \nEn este marco único\, LÍDER ’26 aprovechará la energía y el dinamismo de la universidad para impulsar el debate\, la colaboración y el crecimiento del sector. Como valor añadido\, el edificio Nexus (6-G) acoge en su segunda planta el Centro de Formación Permanente y\, junto con el Centro de Lenguas (4-P)\, ambos se enmarcan organizativamente bajo el mismo vicerrectorado: el Vicerrectorado de Empleo\, Formación Permanente y Lenguas. Este encaje refuerza el vínculo institucional y la colaboración con FECEI\, potenciando la conexión con la enseñanza y la internacionalización. \nAdemás\, ACEICOVA actúa como anfitrión local\, fortaleciendo el arraigo y la participación del sector en la Comunidad Valenciana. \nLIDER ’26 está específicamente diseñado para propietarios de centros\, directores generales y académicos\, y responsables de toma de decisiones estratégicas.
URL:https://aceia.es/event/lider-26-planifica-y-da-forma-al-futuro-de-nuestro-sector/
ATTACH;FMTTYPE=image/jpeg:https://aceia.es/wp-content/uploads/2026/03/images.jpeg
END:VEVENT
BEGIN:VEVENT
DTSTART;VALUE=DATE:20260228
DTEND;VALUE=DATE:20260301
DTSTAMP:20260420T190955
CREATED:20260303T182813Z
LAST-MODIFIED:20260303T182813Z
UID:15441-1772236800-1772323199@aceia.es
SUMMARY:ACEIA recibe el PREMIO DE FECEI Y Cambridge English Spain POR EL BIEN DEL SECTOR
DESCRIPTION: ENHORABUENA\, GANADORA FECEI TOP 2026Hoy celebramos la excelencia.Celebramos el compromiso.Celebramos a quienes elevan nuestro sector cada día.Nos llena de orgullo anunciar que Asociación de Centros de Enseñanzas de Idiomas de Andalucía – ACEIA 27 AÑOS DE VOLUNTARIADOha sido reconocido/a en la categoríaPREMIO DE FECEI Y Cambridge English Spain POR EL BIEN DEL SECTORGracias por inspirar\, por innovar y por contribuir a hacer más fuerte nuestra comunidad educativa.Nos vemos el próximo año… con más talento\, más ideas y más historias que contar.#FECEITOP #PremiosFECEI #OrgulloDeSector #LIDER26 \nVer menos
URL:https://aceia.es/event/aceia-recibe-el-premio-de-fecei-y-cambridge-english-spain-por-el-bien-del-sector/
ATTACH;FMTTYPE=image/jpeg:https://aceia.es/wp-content/uploads/2026/03/644340207_1843235373284191_7619715864643261544_n.jpg
END:VEVENT
BEGIN:VEVENT
DTSTART;TZID=Europe/Madrid:20260228T130000
DTEND;TZID=Europe/Madrid:20260228T140000
DTSTAMP:20260420T190955
CREATED:20260303T182414Z
LAST-MODIFIED:20260303T182503Z
UID:15438-1772283600-1772287200@aceia.es
SUMMARY:ACEIA y Trinity College London firman una alianza estratégica para impulsar la excelencia en la enseñanza de idiomas en Andalucía
DESCRIPTION:La Asociación de Centros de Enseñanza de Idiomas de Andalucía (ACEIA) y Trinity College London (Spain) han formalizado este pasado fin de semana un ambicioso convenio de colaboración destinado a elevar los estándares de calidad en la enseñanza\, el aprendizaje y la evaluación del inglés en toda la comunidad autónoma. La firma del acuerdo\, protagonizada por María González\, Presidenta de ACEIA\, y Frederic Borne\, Director de Trinity College London (Spain)\, establece un marco de cooperación mutua que se extenderá inicialmente hasta febrero de 2030. Este convenio refuerza el compromiso de ambas instituciones con la profesionalización del sector de los centros de idiomas privados en Andalucía\, integrados en la federación nacional FECEI. \nMás información: https://aceia.es/aceia-y-trinity-college-london-una-alianza-estrategica-por-la-excelencia-educativa-en-andalucia/
URL:https://aceia.es/event/aceia-y-trinity-college-london-firman-una-alianza-estrategica-para-impulsar-la-excelencia-en-la-ensenanza-de-idiomas-en-andalucia/
ATTACH;FMTTYPE=image/jpeg:https://aceia.es/wp-content/uploads/2026/03/Firma-Acuerdo-2.jpeg
END:VEVENT
END:VCALENDAR