BEGIN:VCALENDAR
VERSION:2.0
PRODID:-//Aceia - ECPv6.15.15//NONSGML v1.0//EN
CALSCALE:GREGORIAN
METHOD:PUBLISH
X-ORIGINAL-URL:https://aceia.es
X-WR-CALDESC:Eventos para Aceia
REFRESH-INTERVAL;VALUE=DURATION:PT1H
X-Robots-Tag:noindex
X-PUBLISHED-TTL:PT1H
BEGIN:VTIMEZONE
TZID:Europe/Madrid
BEGIN:DAYLIGHT
TZOFFSETFROM:+0100
TZOFFSETTO:+0200
TZNAME:CEST
DTSTART:20230326T010000
END:DAYLIGHT
BEGIN:STANDARD
TZOFFSETFROM:+0200
TZOFFSETTO:+0100
TZNAME:CET
DTSTART:20231029T010000
END:STANDARD
BEGIN:DAYLIGHT
TZOFFSETFROM:+0100
TZOFFSETTO:+0200
TZNAME:CEST
DTSTART:20240331T010000
END:DAYLIGHT
BEGIN:STANDARD
TZOFFSETFROM:+0200
TZOFFSETTO:+0100
TZNAME:CET
DTSTART:20241027T010000
END:STANDARD
BEGIN:DAYLIGHT
TZOFFSETFROM:+0100
TZOFFSETTO:+0200
TZNAME:CEST
DTSTART:20250330T010000
END:DAYLIGHT
BEGIN:STANDARD
TZOFFSETFROM:+0200
TZOFFSETTO:+0100
TZNAME:CET
DTSTART:20251026T010000
END:STANDARD
END:VTIMEZONE
BEGIN:VEVENT
DTSTART;TZID=Europe/Madrid:20240704T120000
DTEND;TZID=Europe/Madrid:20240704T140000
DTSTAMP:20260421T185729
CREATED:20240701T094319Z
LAST-MODIFIED:20240701T094319Z
UID:11774-1720094400-1720101600@aceia.es
SUMMARY:Webinar "Artificial Intelligence in the world of Language Teaching"\, de la mano de FECEI
DESCRIPTION:#SaveTheDate #freewebinar #Teachers #EnglishCoaching #SoloSocios\n\n\n \n\n\nSi eres socio/a de ACEIA o FECEI\, puedes asistir a este Webinar.\n\n\n \n\n\n➡💡Artificial Intelligence in the world of Language Teaching\, de la mano de FECEI\n\n\n🤔¿Cuándo? Jueves\, 4 de Julio a las 12:00 horas\n\n\n🟠 CONTENIDOS:\n\n\n➡➡ All for speaking and pronunciation practise. \n\n\n➡➡ AI features for teachers. \n\n\n➡➡ Option with English Coachs AI and exclusive FECEI Offer. \n\n\n \n\n\n📲Y si no eres socio\, ¿a qué esperas para disfrutar de formación exclusiva? DESCUBRE LAS VENTAJAS: https://aceia.es/hazte-socio/
URL:https://aceia.es/event/webinar-artificial-intelligence-in-the-world-of-language-teaching-de-la-mano-de-fecei/
ATTACH;FMTTYPE=image/jpeg:https://aceia.es/wp-content/uploads/2024/07/unnamed.jpg
END:VEVENT
END:VCALENDAR