BEGIN:VCALENDAR
VERSION:2.0
PRODID:-//Aceia - ECPv6.15.15//NONSGML v1.0//EN
CALSCALE:GREGORIAN
METHOD:PUBLISH
X-ORIGINAL-URL:https://aceia.es
X-WR-CALDESC:Eventos para Aceia
REFRESH-INTERVAL;VALUE=DURATION:PT1H
X-Robots-Tag:noindex
X-PUBLISHED-TTL:PT1H
BEGIN:VTIMEZONE
TZID:Europe/Madrid
BEGIN:DAYLIGHT
TZOFFSETFROM:+0100
TZOFFSETTO:+0200
TZNAME:CEST
DTSTART:20230326T010000
END:DAYLIGHT
BEGIN:STANDARD
TZOFFSETFROM:+0200
TZOFFSETTO:+0100
TZNAME:CET
DTSTART:20231029T010000
END:STANDARD
BEGIN:DAYLIGHT
TZOFFSETFROM:+0100
TZOFFSETTO:+0200
TZNAME:CEST
DTSTART:20240331T010000
END:DAYLIGHT
BEGIN:STANDARD
TZOFFSETFROM:+0200
TZOFFSETTO:+0100
TZNAME:CET
DTSTART:20241027T010000
END:STANDARD
BEGIN:DAYLIGHT
TZOFFSETFROM:+0100
TZOFFSETTO:+0200
TZNAME:CEST
DTSTART:20250330T010000
END:DAYLIGHT
BEGIN:STANDARD
TZOFFSETFROM:+0200
TZOFFSETTO:+0100
TZNAME:CET
DTSTART:20251026T010000
END:STANDARD
END:VTIMEZONE
BEGIN:VEVENT
DTSTART;TZID=Europe/Madrid:20240617T110000
DTEND;TZID=Europe/Madrid:20240617T140000
DTSTAMP:20260421T200929
CREATED:20240606T132103Z
LAST-MODIFIED:20240606T132103Z
UID:11748-1718622000-1718632800@aceia.es
SUMMARY:Nuevo webinar de Oxford en inglés dirigido a profesores: "Motivating with music: Making English fun for young learners"\, de la mano de FECEI
DESCRIPTION:#SaveTheDate #freewebinar #music #teachers #SoloEscuelasACEIA #SomosCEA #SomosFECEI\n\n\n \n\n\nSi eres una #EscuelaACEIA\, esto es para tí 🫵👇\n\n\n \n\n\n➡💡Nuevo webinar de Oxford en inglés dirigido a profesores: «Motivating with music: Making English fun for young learners»\, de la mano de FECEI \n\n\n \n\n\n🤔¿Cuándo? Lunes\, 17 de junio a las 11:00 horas\n\n\n \n\n\n🎶🎶Music is a valuable resource in English Language Teaching and can be used in class to capture attention and motivate learners. When music is combined with attractive audio-visual support\, it can be incredibly effective to help learners acquire vocabulary and grammar in meaningful contexts.\n\n\n\n➡➡ In this dynamic session\, teacher trainer Nina Lauder will discuss with ELT Songs founders how songs\, videos and movement can bring language to life\, and how to make the most of music videos with young learners.\n\n\n \n\n\n💡📢💡 FEATURED PRESENTERS  💡📢💡\n\n\n🟠Nina Lauder is a certified Oxford University Teacher Trainer\, and an ELT and CLIL expert who has been working in the field of education for decades.\n\n\n🟢Jenny Chapman has a degree in Psychology\, as well as a specialisation in English Language Teaching for all levels\, from Infant to Adult.\n\n\n🔵 The ELT Songs team\, Jake Carter (CEO) and Benjamin Carter\, make educational content both accessible and engaging with a unique blend of original pop songs\, dynamic dance routines\, interactive games and accompanying offline materials.  \n\n\n \n\n\n📲 Si quieres unirte a la #ComunidadACEIA y disfrutar de una formación de excelencia #Haztesocio ➡https://aceia.es/
URL:https://aceia.es/event/nuevo-webinar-de-oxford-en-ingles-dirigido-a-profesores-motivating-with-music-making-english-fun-for-young-learners-de-la-mano-de-fecei/
ATTACH;FMTTYPE=image/jpeg:https://aceia.es/wp-content/uploads/2024/06/unnamed.jpg
END:VEVENT
BEGIN:VEVENT
DTSTART;TZID=Europe/Madrid:20240625T110000
DTEND;TZID=Europe/Madrid:20240625T170000
DTSTAMP:20260421T200929
CREATED:20240612T104641Z
LAST-MODIFIED:20240612T111848Z
UID:11762-1719313200-1719334800@aceia.es
SUMMARY:Webinar Session for Directors. What is Recognition? Why should it matter to you and your students? How do we get it? 25th June
DESCRIPTION:#SaveTheDate #freewebinar #Teachers #SoloEscuelasACEIA #SomosFECEI #SomosCEA \n➡💡Nuevo Webinar Session for Directors\, de la mano de FECEI \n🤔¿Cuándo? Martes\, 25 de junio a las 11:00 horas \n🟠 WHAT IS RECOGNITION? WHY SHOULD IT MATTER TO YOU AND YOUR STUDENTS? HOW DO WE GET IT? \n➡➡ Recognition is not just a list of exams; it is much more. Recognition can open up new markets and help generate demand for exams and preparation courses and demand leads to sales. In this workshop we will explore how you can gain greater visibility and traction with new and existing business by using recognition. \n📲Si eres socio o socia de ACEIA\, puedes beneficiarte de nuestra formación de excelencia. Únete a nuestra asociación y disfruta de esta y otras muchas ventajas: www.aceia.es
URL:https://aceia.es/event/webinar-session-for-directors-what-is-recognition-why-should-it-matter-to-you-and-your-students-how-do-we-get-it-25th-june/
ATTACH;FMTTYPE=image/png:https://aceia.es/wp-content/uploads/2024/06/unnamed.png
END:VEVENT
END:VCALENDAR