BEGIN:VCALENDAR
VERSION:2.0
PRODID:-//Aceia - ECPv6.15.15//NONSGML v1.0//EN
CALSCALE:GREGORIAN
METHOD:PUBLISH
X-WR-CALNAME:Aceia
X-ORIGINAL-URL:https://aceia.es
X-WR-CALDESC:Eventos para Aceia
REFRESH-INTERVAL;VALUE=DURATION:PT1H
X-Robots-Tag:noindex
X-PUBLISHED-TTL:PT1H
BEGIN:VTIMEZONE
TZID:Europe/Madrid
BEGIN:DAYLIGHT
TZOFFSETFROM:+0100
TZOFFSETTO:+0200
TZNAME:CEST
DTSTART:20250330T010000
END:DAYLIGHT
BEGIN:STANDARD
TZOFFSETFROM:+0200
TZOFFSETTO:+0100
TZNAME:CET
DTSTART:20251026T010000
END:STANDARD
BEGIN:DAYLIGHT
TZOFFSETFROM:+0100
TZOFFSETTO:+0200
TZNAME:CEST
DTSTART:20260329T010000
END:DAYLIGHT
BEGIN:STANDARD
TZOFFSETFROM:+0200
TZOFFSETTO:+0100
TZNAME:CET
DTSTART:20261025T010000
END:STANDARD
BEGIN:DAYLIGHT
TZOFFSETFROM:+0100
TZOFFSETTO:+0200
TZNAME:CEST
DTSTART:20270328T010000
END:DAYLIGHT
BEGIN:STANDARD
TZOFFSETFROM:+0200
TZOFFSETTO:+0100
TZNAME:CET
DTSTART:20271031T010000
END:STANDARD
END:VTIMEZONE
BEGIN:VEVENT
DTSTART;VALUE=DATE:20260423
DTEND;VALUE=DATE:20260424
DTSTAMP:20260423T135740
CREATED:20260420T092844Z
LAST-MODIFIED:20260420T092844Z
UID:15701-1776902400-1776988799@aceia.es
SUMMARY:23 de Abril: Día Internacional del Libro en ACEIA
DESCRIPTION:Fecha: Jueves\, 23 de abril\nOrganiza: ACEIA (Asociación de Centros de Enseñanza de Idiomas de Andalucía)\nLugar: Centros asociados en toda Andalucía / Online\nDescripción: \nDesde ACEIA celebramos el Día Internacional del Libro poniendo en valor la lectura como una de las habilidades fundamentales para el aprendizaje de idiomas. Leer no es solo una forma de ocio\, es la herramienta clave para consolidar gramática\, ampliar vocabulario y sumergirse en la cultura del idioma que estamos estudiando. \nEn esta jornada\, reivindicamos la importancia de los derechos de autor y fomentamos el hábito lector bajo nuestro lema:\n«Leer nos hace ciudadanos del mundo» \nParticipa con nosotros:\nAnimamos a todos nuestros centros asociados a organizar actividades especiales y compartirlas con la comunidad educativa.\n📸 ¡Comparte tu actividad! Si eres socio/a de ACEIA\, sube tus fotos o vídeos a redes sociales con el hashtag: #DiadelLibroACEIA
URL:https://aceia.es/event/23-de-abril-dia-internacional-del-libro-en-aceia/
ATTACH;FMTTYPE=image/png:https://aceia.es/wp-content/uploads/2026/04/Leer-nos-hace-ciudadanos-del-mundo-DiadelLibroACEIA-Cuadrado.png
END:VEVENT
END:VCALENDAR